BEGIN:VCALENDAR
VERSION:2.0
PRODID:-//NANA - ECPv6.15.18//NONSGML v1.0//EN
CALSCALE:GREGORIAN
METHOD:PUBLISH
X-ORIGINAL-URL:https://northavondalecincinnati.com
X-WR-CALDESC:Events for NANA
REFRESH-INTERVAL;VALUE=DURATION:PT1H
X-Robots-Tag:noindex
X-PUBLISHED-TTL:PT1H
BEGIN:VTIMEZONE
TZID:America/New_York
BEGIN:DAYLIGHT
TZOFFSETFROM:-0500
TZOFFSETTO:-0400
TZNAME:EDT
DTSTART:20240310T070000
END:DAYLIGHT
BEGIN:STANDARD
TZOFFSETFROM:-0400
TZOFFSETTO:-0500
TZNAME:EST
DTSTART:20241103T060000
END:STANDARD
BEGIN:DAYLIGHT
TZOFFSETFROM:-0500
TZOFFSETTO:-0400
TZNAME:EDT
DTSTART:20250309T070000
END:DAYLIGHT
BEGIN:STANDARD
TZOFFSETFROM:-0400
TZOFFSETTO:-0500
TZNAME:EST
DTSTART:20251102T060000
END:STANDARD
BEGIN:DAYLIGHT
TZOFFSETFROM:-0500
TZOFFSETTO:-0400
TZNAME:EDT
DTSTART:20260308T070000
END:DAYLIGHT
BEGIN:STANDARD
TZOFFSETFROM:-0400
TZOFFSETTO:-0500
TZNAME:EST
DTSTART:20261101T060000
END:STANDARD
END:VTIMEZONE
BEGIN:VEVENT
DTSTART;TZID=America/New_York:20250102T190000
DTEND;TZID=America/New_York:20250102T200000
DTSTAMP:20260421T074731
CREATED:20241212T224457Z
LAST-MODIFIED:20241212T224459Z
UID:10000187-1735844400-1735848000@northavondalecincinnati.com
SUMMARY:NANA master plan January project team meeting
DESCRIPTION:The master plan team is meeting on the first Thursdays of each month. Anyone with planning or outreach experience would be a great fit for this group. Meetings run monthly. Anyone from North Avondale is welcome to attend. \n\n\n\nThe North Avondale Master Plan was originally written in 1974 and the North Avondale Reading Rd. Urban Design in 1995. The new project team will be working with City of Cincinnati planner\, Gabrielle “Abby” Couch\, and other members of or community to revise/update the plan which can be reviewed at https://www.cincinnati-oh.gov/planning/neighborhood-plans/approved-plans/. \n\n\n\nFor more information\, please email nana@northavondalecincinnati.com.
URL:https://northavondalecincinnati.com/event/nana-master-plan-january-project-team-meeting/
LOCATION:North Avondale Recreation Center\, 617 Clinton Springs\, Cincinnati\, OH\, 45229\, United States
CATEGORIES:Events & Activities,Mailchimp Newsletter
ATTACH;FMTTYPE=image/jpeg:https://northavondalecincinnati.com/wp-content/uploads/2022/12/NANA-Urban-planning-e1679262688450.jpeg
END:VEVENT
END:VCALENDAR