BEGIN:VCALENDAR
VERSION:2.0
PRODID:-//NANA - ECPv6.15.18//NONSGML v1.0//EN
CALSCALE:GREGORIAN
METHOD:PUBLISH
X-WR-CALNAME:NANA
X-ORIGINAL-URL:https://northavondalecincinnati.com
X-WR-CALDESC:Events for NANA
REFRESH-INTERVAL;VALUE=DURATION:PT1H
X-Robots-Tag:noindex
X-PUBLISHED-TTL:PT1H
BEGIN:VTIMEZONE
TZID:America/New_York
BEGIN:DAYLIGHT
TZOFFSETFROM:-0500
TZOFFSETTO:-0400
TZNAME:EDT
DTSTART:20240310T070000
END:DAYLIGHT
BEGIN:STANDARD
TZOFFSETFROM:-0400
TZOFFSETTO:-0500
TZNAME:EST
DTSTART:20241103T060000
END:STANDARD
BEGIN:DAYLIGHT
TZOFFSETFROM:-0500
TZOFFSETTO:-0400
TZNAME:EDT
DTSTART:20250309T070000
END:DAYLIGHT
BEGIN:STANDARD
TZOFFSETFROM:-0400
TZOFFSETTO:-0500
TZNAME:EST
DTSTART:20251102T060000
END:STANDARD
BEGIN:DAYLIGHT
TZOFFSETFROM:-0500
TZOFFSETTO:-0400
TZNAME:EDT
DTSTART:20260308T070000
END:DAYLIGHT
BEGIN:STANDARD
TZOFFSETFROM:-0400
TZOFFSETTO:-0500
TZNAME:EST
DTSTART:20261101T060000
END:STANDARD
END:VTIMEZONE
BEGIN:VEVENT
DTSTART;TZID=America/New_York:20250112T150000
DTEND;TZID=America/New_York:20250112T170000
DTSTAMP:20260425T084919
CREATED:20241212T155100Z
LAST-MODIFIED:20241212T155222Z
UID:10000185-1736694000-1736701200@northavondalecincinnati.com
SUMMARY:Interfaith Vesper at Zion Baptist Church
DESCRIPTION:Zion Baptist Church celebrates the 20th Anniversary of its Interfaith Vesper\, “Sharing Dr. Martin L. King’s Dream of One Nation\,” on Sunday\, January 12\, 2025\, at 3:00 p.m. This year’s speaker is Stephanie J. Jones\, JD. Jones is president of the Nathaniel Jones Justice Foundation and daughter of the late Honorable Nathaniel R. Jones\, Zion’s first Vesper speaker. The service includes performances by the CSO’s Youth Orchestra Nouveau Chamber Players and the Zion Baptist Church choir.
URL:https://northavondalecincinnati.com/event/interfaith-vesper-at-zion-baptist-church/
LOCATION:Zion Baptist Church\, 630 Glenwood Avenue\, Cincinnati\, Ohio\, 45229\, United States
CATEGORIES:Events & Activities
ATTACH;FMTTYPE=image/jpeg:https://northavondalecincinnati.com/wp-content/uploads/2024/12/SJJHeadshot-e1734017892707.jpg
END:VEVENT
END:VCALENDAR