BEGIN:VCALENDAR
VERSION:2.0
PRODID:-//NANA - ECPv6.15.18//NONSGML v1.0//EN
CALSCALE:GREGORIAN
METHOD:PUBLISH
X-ORIGINAL-URL:https://northavondalecincinnati.com
X-WR-CALDESC:Events for NANA
REFRESH-INTERVAL;VALUE=DURATION:PT1H
X-Robots-Tag:noindex
X-PUBLISHED-TTL:PT1H
BEGIN:VTIMEZONE
TZID:America/New_York
BEGIN:DAYLIGHT
TZOFFSETFROM:-0500
TZOFFSETTO:-0400
TZNAME:EDT
DTSTART:20230312T070000
END:DAYLIGHT
BEGIN:STANDARD
TZOFFSETFROM:-0400
TZOFFSETTO:-0500
TZNAME:EST
DTSTART:20231105T060000
END:STANDARD
BEGIN:DAYLIGHT
TZOFFSETFROM:-0500
TZOFFSETTO:-0400
TZNAME:EDT
DTSTART:20240310T070000
END:DAYLIGHT
BEGIN:STANDARD
TZOFFSETFROM:-0400
TZOFFSETTO:-0500
TZNAME:EST
DTSTART:20241103T060000
END:STANDARD
BEGIN:DAYLIGHT
TZOFFSETFROM:-0500
TZOFFSETTO:-0400
TZNAME:EDT
DTSTART:20250309T070000
END:DAYLIGHT
BEGIN:STANDARD
TZOFFSETFROM:-0400
TZOFFSETTO:-0500
TZNAME:EST
DTSTART:20251102T060000
END:STANDARD
END:VTIMEZONE
BEGIN:VEVENT
DTSTART;TZID=America/New_York:20240305T183000
DTEND;TZID=America/New_York:20240305T200000
DTSTAMP:20260423T031554
CREATED:20240131T012046Z
LAST-MODIFIED:20240131T012108Z
UID:10000111-1709663400-1709668800@northavondalecincinnati.com
SUMMARY:NANA Executive Board March 2024 meeting
DESCRIPTION:The NANA executive board meets monthly on the first Tuesday of the month. If you are interested in attending or presenting at this meeting\, please contact nana@northavondalecincinnati.com.
URL:https://northavondalecincinnati.com/event/nana-executive-board-march-2024-meeting/
LOCATION:North Avondale Recreation Center\, 617 Clinton Springs\, Cincinnati\, OH\, 45229\, United States
CATEGORIES:Events & Activities,Mailchimp Newsletter
ATTACH;FMTTYPE=image/jpeg:https://northavondalecincinnati.com/wp-content/uploads/2022/12/North-Avondale-Rec-Center-School.jpeg
END:VEVENT
BEGIN:VEVENT
DTSTART;TZID=America/New_York:20240307T190000
DTEND;TZID=America/New_York:20240307T200000
DTSTAMP:20260423T031554
CREATED:20240131T011203Z
LAST-MODIFIED:20240131T011310Z
UID:10000105-1709838000-1709841600@northavondalecincinnati.com
SUMMARY:NANA master plan project team meeting
DESCRIPTION:The master plan team is meeting on the first Thursdays of each month. Anyone with planning or outreach experience would be a great fit for this group. Meetings run monthly.  \n\n\n\nThe North Avondale Master Plan was originally written in 1974 and the North Avondale Reading Rd. Urban Design in 1995. The new project team will be working with City of Cincinnati planner\, Gabrielle “Abby” Couch\, and other members of or community to revise/update the plan which can be reviewed at https://www.cincinnati-oh.gov/planning/neighborhood-plans/approved-plans/. \n\n\n\nFor more information\, please email nana@northavondalecincinnati.com.
URL:https://northavondalecincinnati.com/event/nana-master-plan-project-team-meeting-6/
LOCATION:North Avondale Recreation Center\, 617 Clinton Springs\, Cincinnati\, OH\, 45229\, United States
CATEGORIES:Events & Activities,Mailchimp Newsletter
ATTACH;FMTTYPE=image/jpeg:https://northavondalecincinnati.com/wp-content/uploads/2022/12/NANA-Urban-planning-e1679262688450.jpeg
END:VEVENT
BEGIN:VEVENT
DTSTART;TZID=America/New_York:20240312T183000
DTEND;TZID=America/New_York:20240312T200000
DTSTAMP:20260423T031554
CREATED:20240131T013350Z
LAST-MODIFIED:20240310T213546Z
UID:10000121-1710268200-1710273600@northavondalecincinnati.com
SUMMARY:NANA General meeting March 2024
DESCRIPTION:The NANA general meeting is held on the 2nd Tuesday of every month except for August. Lynne Miller presents the Citizens Not Politicians amendment to end gerrymandering at the NANA General meeting. Miller is a speaker for Fair Districts Ohio\, a volunteer organization supporting the CNP amendment. She has volunteered as a speaker with Fair Districts for several years in an effort to end gerrymandering in Ohio. Miller’s presentation including time for Q&A will start at 7:30pm after the business portion of the General Meeting. We look forward to seeing you at the March general meeting.
URL:https://northavondalecincinnati.com/event/nana-general-meeting-march-2024/
LOCATION:North Avondale Recreation Center\, 617 Clinton Springs\, Cincinnati\, OH\, 45229\, United States
CATEGORIES:Events & Activities,Mailchimp Newsletter
ATTACH;FMTTYPE=image/jpeg:https://northavondalecincinnati.com/wp-content/uploads/2024/03/Citizens-not-Politicians.jpg
END:VEVENT
BEGIN:VEVENT
DTSTART;TZID=America/New_York:20240320T173000
DTEND;TZID=America/New_York:20240320T183000
DTSTAMP:20260423T031554
CREATED:20240310T210513Z
LAST-MODIFIED:20240310T210514Z
UID:10000149-1710955800-1710959400@northavondalecincinnati.com
SUMMARY:City of Cincinnati Budget Hearing
DESCRIPTION:The City of Cincinnati’s Budget & Finance Committee will have three (3) public hearings\, to receive public input and discuss Fiscal Year 2025 Operating and Capital Budget. The March 20 hearing will take place at 5:30 p.m. at the North Avondale Recreation Center.
URL:https://northavondalecincinnati.com/event/city-of-cincinnati-budget-hearing/
LOCATION:North Avondale Recreation Center\, 617 Clinton Springs\, Cincinnati\, OH\, 45229\, United States
CATEGORIES:Events & Activities
ATTACH;FMTTYPE=image/jpeg:https://northavondalecincinnati.com/wp-content/uploads/2024/03/admin-Budget-engagement-feature.jpg
END:VEVENT
BEGIN:VEVENT
DTSTART;TZID=America/New_York:20240325T090000
DTEND;TZID=America/New_York:20240328T170000
DTSTAMP:20260423T031554
CREATED:20240310T205852Z
LAST-MODIFIED:20240310T205853Z
UID:10000144-1711357200-1711645200@northavondalecincinnati.com
SUMMARY:Camps for Champs Spring Break Club
DESCRIPTION:Camps for Champs Spring Break Camp is an opportunity for boys and girls in grades K–6 provided by the Cincinnati Recreation Commission and Cincinnati Public Schools. The week will include 4 days of sports and fun activities such as basketball\, soccer\, art\, e-sports\, swimming\, and free play.The camp will be held at North Avondale Recreation Center March 25-28\, 9am to 5pm. \n\n\n\nThe camp is $120 for the week + a CRC membership ($2 for the year). Lunch is provided if needed. \n\n\n\nQuestions? Call 513-961-1584
URL:https://northavondalecincinnati.com/event/camps-for-champs-spring-break-club/
LOCATION:North Avondale Recreation Center\, 617 Clinton Springs\, Cincinnati\, OH\, 45229\, United States
CATEGORIES:Events & Activities
ATTACH;FMTTYPE=application/pdf:https://northavondalecincinnati.com/wp-content/uploads/2024/02/Campsforchamps_w_qr_price-1.pdf
END:VEVENT
END:VCALENDAR