BEGIN:VCALENDAR
VERSION:2.0
PRODID:-//NANA - ECPv6.15.18//NONSGML v1.0//EN
CALSCALE:GREGORIAN
METHOD:PUBLISH
X-WR-CALNAME:NANA
X-ORIGINAL-URL:https://northavondalecincinnati.com
X-WR-CALDESC:Events for NANA
REFRESH-INTERVAL;VALUE=DURATION:PT1H
X-Robots-Tag:noindex
X-PUBLISHED-TTL:PT1H
BEGIN:VTIMEZONE
TZID:America/New_York
BEGIN:DAYLIGHT
TZOFFSETFROM:-0500
TZOFFSETTO:-0400
TZNAME:EDT
DTSTART:20230312T070000
END:DAYLIGHT
BEGIN:STANDARD
TZOFFSETFROM:-0400
TZOFFSETTO:-0500
TZNAME:EST
DTSTART:20231105T060000
END:STANDARD
BEGIN:DAYLIGHT
TZOFFSETFROM:-0500
TZOFFSETTO:-0400
TZNAME:EDT
DTSTART:20240310T070000
END:DAYLIGHT
BEGIN:STANDARD
TZOFFSETFROM:-0400
TZOFFSETTO:-0500
TZNAME:EST
DTSTART:20241103T060000
END:STANDARD
BEGIN:DAYLIGHT
TZOFFSETFROM:-0500
TZOFFSETTO:-0400
TZNAME:EDT
DTSTART:20250309T070000
END:DAYLIGHT
BEGIN:STANDARD
TZOFFSETFROM:-0400
TZOFFSETTO:-0500
TZNAME:EST
DTSTART:20251102T060000
END:STANDARD
END:VTIMEZONE
BEGIN:VEVENT
DTSTART;TZID=America/New_York:20240611T183000
DTEND;TZID=America/New_York:20240611T200000
DTSTAMP:20260423T054841
CREATED:20240131T014121Z
LAST-MODIFIED:20240131T014122Z
UID:10000124-1718130600-1718136000@northavondalecincinnati.com
SUMMARY:NANA General meeting June 2024
DESCRIPTION:The NANA general meeting is held on the 2nd Tuesday of every month except for August. We look forward to seeing you at the June general meeting.
URL:https://northavondalecincinnati.com/event/nana-general-meeting-june-2024/
LOCATION:North Avondale Recreation Center\, 617 Clinton Springs\, Cincinnati\, OH\, 45229\, United States
CATEGORIES:Events & Activities,Mailchimp Newsletter
ATTACH;FMTTYPE=image/jpeg:https://northavondalecincinnati.com/wp-content/uploads/2022/12/North-Avondale-Rec-Center-School.jpeg
END:VEVENT
END:VCALENDAR