BEGIN:VCALENDAR
VERSION:2.0
PRODID:-//NANA - ECPv6.15.18//NONSGML v1.0//EN
CALSCALE:GREGORIAN
METHOD:PUBLISH
X-WR-CALNAME:NANA
X-ORIGINAL-URL:https://northavondalecincinnati.com
X-WR-CALDESC:Events for NANA
REFRESH-INTERVAL;VALUE=DURATION:PT1H
X-Robots-Tag:noindex
X-PUBLISHED-TTL:PT1H
BEGIN:VTIMEZONE
TZID:America/New_York
BEGIN:DAYLIGHT
TZOFFSETFROM:-0500
TZOFFSETTO:-0400
TZNAME:EDT
DTSTART:20250309T070000
END:DAYLIGHT
BEGIN:STANDARD
TZOFFSETFROM:-0400
TZOFFSETTO:-0500
TZNAME:EST
DTSTART:20251102T060000
END:STANDARD
BEGIN:DAYLIGHT
TZOFFSETFROM:-0500
TZOFFSETTO:-0400
TZNAME:EDT
DTSTART:20260308T070000
END:DAYLIGHT
BEGIN:STANDARD
TZOFFSETFROM:-0400
TZOFFSETTO:-0500
TZNAME:EST
DTSTART:20261101T060000
END:STANDARD
BEGIN:DAYLIGHT
TZOFFSETFROM:-0500
TZOFFSETTO:-0400
TZNAME:EDT
DTSTART:20270314T070000
END:DAYLIGHT
BEGIN:STANDARD
TZOFFSETFROM:-0400
TZOFFSETTO:-0500
TZNAME:EST
DTSTART:20271107T060000
END:STANDARD
END:VTIMEZONE
BEGIN:VEVENT
DTSTART;TZID=America/New_York:20260425T090000
DTEND;TZID=America/New_York:20260425T113000
DTSTAMP:20260421T165149
CREATED:20260410T201451Z
LAST-MODIFIED:20260410T201452Z
UID:10000265-1777107600-1777116600@northavondalecincinnati.com
SUMMARY:Green and Clean Up Day
DESCRIPTION:Seasongood Square\, Marion Triangle\, Pamela Smitherman Garden\, and Dana Triangle. Meet at Dana Triangle. \n\n\n\nVolunteer or sign up here: http://bttr.im/ns2iu
URL:https://northavondalecincinnati.com/event/green-and-clean-up-day/
LOCATION:Ohio
CATEGORIES:Events & Activities,Mailchimp Newsletter
ATTACH;FMTTYPE=image/png:https://northavondalecincinnati.com/wp-content/uploads/2026/04/unnamed-5.png
END:VEVENT
END:VCALENDAR