BEGIN:VCALENDAR
VERSION:2.0
PRODID:-//NANA - ECPv6.15.18//NONSGML v1.0//EN
CALSCALE:GREGORIAN
METHOD:PUBLISH
X-ORIGINAL-URL:https://northavondalecincinnati.com
X-WR-CALDESC:Events for NANA
REFRESH-INTERVAL;VALUE=DURATION:PT1H
X-Robots-Tag:noindex
X-PUBLISHED-TTL:PT1H
BEGIN:VTIMEZONE
TZID:America/New_York
BEGIN:DAYLIGHT
TZOFFSETFROM:-0500
TZOFFSETTO:-0400
TZNAME:EDT
DTSTART:20240310T070000
END:DAYLIGHT
BEGIN:STANDARD
TZOFFSETFROM:-0400
TZOFFSETTO:-0500
TZNAME:EST
DTSTART:20241103T060000
END:STANDARD
BEGIN:DAYLIGHT
TZOFFSETFROM:-0500
TZOFFSETTO:-0400
TZNAME:EDT
DTSTART:20250309T070000
END:DAYLIGHT
BEGIN:STANDARD
TZOFFSETFROM:-0400
TZOFFSETTO:-0500
TZNAME:EST
DTSTART:20251102T060000
END:STANDARD
BEGIN:DAYLIGHT
TZOFFSETFROM:-0500
TZOFFSETTO:-0400
TZNAME:EDT
DTSTART:20260308T070000
END:DAYLIGHT
BEGIN:STANDARD
TZOFFSETFROM:-0400
TZOFFSETTO:-0500
TZNAME:EST
DTSTART:20261101T060000
END:STANDARD
END:VTIMEZONE
BEGIN:VEVENT
DTSTART;TZID=America/New_York:20250204T183000
DTEND;TZID=America/New_York:20250204T200000
DTSTAMP:20260421T050152
CREATED:20250205T213657Z
LAST-MODIFIED:20250205T214433Z
UID:10000195-1738693800-1738699200@northavondalecincinnati.com
SUMMARY:NANA Executive Board February 2025 Meeting
DESCRIPTION:The NANA executive board meets monthly on the first Tuesday of the month. If you are interested in attending or presenting at this meeting\, please contact nana@northavondalecincinnati.com.
URL:https://northavondalecincinnati.com/event/nana-executive-board-february-2025-meeting/
LOCATION:North Avondale Recreation Center\, 617 Clinton Springs\, Cincinnati\, OH\, 45229\, United States
CATEGORIES:Events & Activities,Mailchimp Newsletter
ATTACH;FMTTYPE=image/jpeg:https://northavondalecincinnati.com/wp-content/uploads/2025/02/reccenter.jpg
END:VEVENT
BEGIN:VEVENT
DTSTART;TZID=America/New_York:20250206T190000
DTEND;TZID=America/New_York:20250206T200000
DTSTAMP:20260421T050152
CREATED:20250205T214039Z
LAST-MODIFIED:20250205T214040Z
UID:10000198-1738868400-1738872000@northavondalecincinnati.com
SUMMARY:NANA Master Plan February Project Team Meeting
DESCRIPTION:The master plan team is meeting on the first Thursdays of each month. Anyone with planning or outreach experience would be a great fit for this group. Meetings run monthly. Anyone from North Avondale is welcome to attend. \n\n\n\nThe North Avondale Master Plan was originally written in 1974 and the North Avondale Reading Rd. Urban Design in 1995. The new project team will be working with City of Cincinnati planner\, Gabrielle “Abby” Couch\, and other members of or community to revise/update the plan which can be reviewed at https://www.cincinnati-oh.gov/planning/neighborhood-plans/approved-plans/. \n\n\n\nFor more information\, please email nana@northavondalecincinnati.com.
URL:https://northavondalecincinnati.com/event/nana-master-plan-february-project-team-meeting/
LOCATION:North Avondale Recreation Center\, 617 Clinton Springs\, Cincinnati\, OH\, 45229\, United States
CATEGORIES:Events & Activities,Mailchimp Newsletter
ATTACH;FMTTYPE=image/jpeg:https://northavondalecincinnati.com/wp-content/uploads/2022/12/NANA-Urban-planning-e1679262688450.jpeg
END:VEVENT
BEGIN:VEVENT
DTSTART;TZID=America/New_York:20250211T183000
DTEND;TZID=America/New_York:20250211T200000
DTSTAMP:20260421T050152
CREATED:20250205T200752Z
LAST-MODIFIED:20250205T200816Z
UID:10000192-1739298600-1739304000@northavondalecincinnati.com
SUMMARY:NANA General Meeting February 2025
DESCRIPTION:The NANA general meeting is held on the 2nd Tuesday of every month except for August. We look forward to seeing you at the February general meeting.
URL:https://northavondalecincinnati.com/event/nana-general-meeting-february-2025/
LOCATION:North Avondale Recreation Center\, 617 Clinton Springs\, Cincinnati\, OH\, 45229\, United States
CATEGORIES:Events & Activities,Mailchimp Newsletter
ATTACH;FMTTYPE=image/jpeg:https://northavondalecincinnati.com/wp-content/uploads/2025/02/reccenter.jpg
END:VEVENT
BEGIN:VEVENT
DTSTART;TZID=America/New_York:20250215T120000
DTEND;TZID=America/New_York:20250215T150000
DTSTAMP:20260421T050152
CREATED:20250211T185301Z
LAST-MODIFIED:20250211T190012Z
UID:10000213-1739620800-1739631600@northavondalecincinnati.com
SUMMARY:Making Connected Communities Better Town Hall Meeting
DESCRIPTION:Here what community working groups are discussing to address YOUR issues of concerns. Come\, listen\, and give feedback. Your voice counts!
URL:https://northavondalecincinnati.com/event/making-connected-communities-better-town-hall-meeting/
LOCATION:Hamilton County Community Action Agency\, 1740 Langdon Farm Road\, Cincinnati\, Ohio\, 45237\, United States
CATEGORIES:Events & Activities,Mailchimp Newsletter
END:VEVENT
BEGIN:VEVENT
DTSTART;TZID=America/New_York:20250219T180000
DTEND;TZID=America/New_York:20250219T193000
DTSTAMP:20260421T050152
CREATED:20250211T185740Z
LAST-MODIFIED:20250211T185741Z
UID:10000214-1739988000-1739993400@northavondalecincinnati.com
SUMMARY:Historic District Guidelines Meeting #2
DESCRIPTION:Please join us for a second meeting to discuss the proposed North Avondale Historic District. The agenda for the February 19 meeting is further discussion of the proposed boundaries and proposed guidelines for rehabilitation of existing buildings. Meeting will be located in the North Avondale Recreation Center Multi Purpose Room
URL:https://northavondalecincinnati.com/event/historic-district-guidelines-meeting-2/
LOCATION:North Avondale Recreation Center\, 617 Clinton Springs\, Cincinnati\, OH\, 45229\, United States
CATEGORIES:Events & Activities,Mailchimp Newsletter
ATTACH;FMTTYPE=image/jpeg:https://northavondalecincinnati.com/wp-content/uploads/2025/02/reccenter.jpg
END:VEVENT
END:VCALENDAR