BEGIN:VCALENDAR
VERSION:2.0
PRODID:-//NANA - ECPv6.15.18//NONSGML v1.0//EN
CALSCALE:GREGORIAN
METHOD:PUBLISH
X-ORIGINAL-URL:https://northavondalecincinnati.com
X-WR-CALDESC:Events for NANA
REFRESH-INTERVAL;VALUE=DURATION:PT1H
X-Robots-Tag:noindex
X-PUBLISHED-TTL:PT1H
BEGIN:VTIMEZONE
TZID:America/New_York
BEGIN:DAYLIGHT
TZOFFSETFROM:-0500
TZOFFSETTO:-0400
TZNAME:EDT
DTSTART:20240310T070000
END:DAYLIGHT
BEGIN:STANDARD
TZOFFSETFROM:-0400
TZOFFSETTO:-0500
TZNAME:EST
DTSTART:20241103T060000
END:STANDARD
BEGIN:DAYLIGHT
TZOFFSETFROM:-0500
TZOFFSETTO:-0400
TZNAME:EDT
DTSTART:20250309T070000
END:DAYLIGHT
BEGIN:STANDARD
TZOFFSETFROM:-0400
TZOFFSETTO:-0500
TZNAME:EST
DTSTART:20251102T060000
END:STANDARD
BEGIN:DAYLIGHT
TZOFFSETFROM:-0500
TZOFFSETTO:-0400
TZNAME:EDT
DTSTART:20260308T070000
END:DAYLIGHT
BEGIN:STANDARD
TZOFFSETFROM:-0400
TZOFFSETTO:-0500
TZNAME:EST
DTSTART:20261101T060000
END:STANDARD
END:VTIMEZONE
BEGIN:VEVENT
DTSTART;TZID=America/New_York:20251021T173000
DTEND;TZID=America/New_York:20251021T193000
DTSTAMP:20260420T045057
CREATED:20251010T162124Z
LAST-MODIFIED:20251010T162125Z
UID:10000248-1761067800-1761075000@northavondalecincinnati.com
SUMMARY:Cincinnati’s Community Councils: A Crucial Link or an Obstacle to Development?
DESCRIPTION:The City of Cincinnati website states that\, “Community councils are a crucial link between the City and its many unique neighborhoods…” But do they? Join Woman’s City Club for a panel discussion on the role of community councils in governance\, decision-making\, and civic engagement. Panelists include Elizabeth Bartley (Executive Director\, Invest in Neighborhoods)\, Dave Mann (Former Mayor and Council Member)\, Jacqueline Edmerson (President\, Bond Hill Community Council)\, Sue Wilke (Co-chair\, Civic Engagement Action Team)\, and Amber Kassem (President\, East Price Hill Improvement Association). Moderated by Cheri Rekow\, WCC’s VP for Civic Engagement. \n\n\n\nRSVP at wcc@womanscityclub.org
URL:https://northavondalecincinnati.com/event/cincinnatis-community-councils-a-crucial-link-or-an-obstacle-to-development/
LOCATION:First Unitarian Church\, 536 Linton Street\, Cincinnati\, Ohio\, 45219\, United States
CATEGORIES:Events & Activities,Mailchimp Newsletter
END:VEVENT
END:VCALENDAR