BEGIN:VCALENDAR
VERSION:2.0
PRODID:-//NANA - ECPv6.15.18//NONSGML v1.0//EN
CALSCALE:GREGORIAN
METHOD:PUBLISH
X-WR-CALNAME:NANA
X-ORIGINAL-URL:https://northavondalecincinnati.com
X-WR-CALDESC:Events for NANA
REFRESH-INTERVAL;VALUE=DURATION:PT1H
X-Robots-Tag:noindex
X-PUBLISHED-TTL:PT1H
BEGIN:VTIMEZONE
TZID:America/New_York
BEGIN:DAYLIGHT
TZOFFSETFROM:-0500
TZOFFSETTO:-0400
TZNAME:EDT
DTSTART:20240310T070000
END:DAYLIGHT
BEGIN:STANDARD
TZOFFSETFROM:-0400
TZOFFSETTO:-0500
TZNAME:EST
DTSTART:20241103T060000
END:STANDARD
BEGIN:DAYLIGHT
TZOFFSETFROM:-0500
TZOFFSETTO:-0400
TZNAME:EDT
DTSTART:20250309T070000
END:DAYLIGHT
BEGIN:STANDARD
TZOFFSETFROM:-0400
TZOFFSETTO:-0500
TZNAME:EST
DTSTART:20251102T060000
END:STANDARD
BEGIN:DAYLIGHT
TZOFFSETFROM:-0500
TZOFFSETTO:-0400
TZNAME:EDT
DTSTART:20260308T070000
END:DAYLIGHT
BEGIN:STANDARD
TZOFFSETFROM:-0400
TZOFFSETTO:-0500
TZNAME:EST
DTSTART:20261101T060000
END:STANDARD
END:VTIMEZONE
BEGIN:VEVENT
DTSTART;TZID=America/New_York:20251101T090000
DTEND;TZID=America/New_York:20251101T130000
DTSTAMP:20260422T075508
CREATED:20251010T163122Z
LAST-MODIFIED:20251010T163124Z
UID:10000250-1761987600-1762002000@northavondalecincinnati.com
SUMMARY:In Session: The Wake Up
DESCRIPTION:This is the third session. The Wake Up. \n\n\n\nI’m DJ AQ – In Session is where music\, mental health\, and community meet. We started with The Intake\, continued with The Follow Up\, and now we’re flipping the script with a morning vibe made for Cincy. \n\n\n\nIn Session: The Wake Up is a 9am gathering – a space where music\, connection\, wellness\, and creativity come alive before the day even begins. Alongside DJ sets and community energy\, local artists will be showcasing their work\, adding another layer of expression and inspiration to the experience. \n\n\n\nIt’s more than a party. It’s a reset. A chance to start fresh\, move your body\, engage with art\, and share space with good people. No pressure\, no pretense — just an open\, welcoming environment designed to bring us together. \n\n\n\nCome solo or bring your crew. Either way\, expect a morning of music\, art\, connection\, and community. \n\n\n\nCome as you are. Leave lighter. \n\n\n\nPurchase Your Tickets Today.
URL:https://northavondalecincinnati.com/event/in-session-the-wake-up/
LOCATION:Rhinegeist Signature Room\, 1910 Elm Street\, Cincinnati\, Ohio\, 45202\, United States
CATEGORIES:Events & Activities,Mailchimp Newsletter
END:VEVENT
END:VCALENDAR